BEGIN:VCALENDAR
VERSION:2.0
PRODID:-//Library Market//iCal Export//EN
BEGIN:VEVENT
SUMMARY:All Ages Drum Circle
UID:7522
DTSTAMP:20260425T164900Z
DTSTART:20270327T193000Z
DTEND:20270327T203000Z
LOCATION:285 N Main, Logan, UT 84321, United States
ROOM: Community Room Combined
DESCRIPTION:THIS EVENT REQUIRES REGISTRATION*. Join us for a welcoming, al
 l-ages drumming circle led by local music therapist Tessa Buck. This free 
 program will be held on the 4th Saturday of every month from 1:30-2:30 PM 
 in the Logan Library Community Rooms, offering a fun and engaging way to c
 onnect with others, reduce stress, and experience the joy of making music 
 together. No prior musical experience is needed; all skill levels are welc
 ome. Children 12 and under must be accompanied by an adult. A variety of d
 rums and small hand percussion will be available to use, or feel free to b
 ring your own.*Spots are limited and often fill quickly. When registered p
 articipants don’t attend, others don&#039;t have the opportunity to join
 . Please only register if you plan to attend, and cancel using your confir
 mation email if your plans change so we can offer your spot to someone els
 e.
URL:https://loganutah.librarycalendar.com/event/drum-circle-7522
END:VEVENT
END:VCALENDAR
