BEGIN:VCALENDAR
VERSION:2.0
PRODID:-//Library Market//iCal Export//EN
BEGIN:VEVENT
SUMMARY:JOI: Daruma Painting (Kids and Caregivers)
UID:9796
DTSTAMP:20260426T010500Z
DTSTART:20260502T220000Z
DTEND:20260502T230000Z
LOCATION:285 N Main, Logan, UT 84321, United States
ROOM: Makerspace as Workshop
DESCRIPTION:Get creative in the Makerspace as you paint your own Daruma, a
  traditional Japanese symbol of perseverance and good luck. All supplies w
 ill be provided, and no experience is necessary. Space is limited, so regi
 stration is required.Workshops:Saturday, May 2 | 4–5 PM — Kids and Car
 egiversTuesday, May 5 | 6–7 PM — Ages 8–12Thursday, May 14 | 6–7 P
 M — Ages 13+Wednesday, May 20 | 6–7 PM — Ages 13+ *Spots are limite
 d and often fill quickly. When registered participants don’t attend, it 
 prevents others from having the opportunity to join. Please only register 
 if you plan to attend, and cancel using your confirmation email if your pl
 ans change so we can offer your spot to someone else.
URL:https://loganutah.librarycalendar.com/event/joi-daruma-painting-9796
END:VEVENT
END:VCALENDAR
