BEGIN:VCALENDAR
VERSION:2.0
PRODID:-//Library Market//iCal Export//EN
BEGIN:VEVENT
SUMMARY:Intro to Web Development Course
UID:9855
DTSTAMP:20260423T215600Z
DTSTART:20260421T000000Z
DTEND:20260421T010000Z
LOCATION:285 N Main, Logan, UT 84321, United States
ROOM: Makerspace as Workshop
DESCRIPTION:EGISTRATION IS REQUIRED FOR THIS EVENT. Come learn the basics 
 of web development in this six-week hands-on course in the Cytiva Makerspa
 ce at Logan Library on Mondays from March 16 to April 20 at 6 PM. Each ses
 sion will build on the last, combining a brief lecture with a guided &quot
 ;code-along&quot;. The instructor will provide support and answer question
 s, making this class perfect for beginners. Participants should bring thei
 r own laptops, though a few library laptops are available by request (emai
 l: morgan.taylor@loganutah.gov). All skill levels are welcome, ages 13 and
  up. This class is limited to 10 participants, but if it is successful the
  library will look into offering additional workshop series.
URL:https://loganutah.librarycalendar.com/event/intro-web-development-cour
 se-9855
END:VEVENT
END:VCALENDAR
